BEGIN:VCALENDAR
VERSION:2.0
PRODID:-//NurEinShop//EventExport//DE
BEGIN:VEVENT
UID:608a8d528cb9de1017ed6a81
DTSTAMP:20260419T204240Z
DTSTART:20261205T180000
DTEND:20261205T200000
SUMMARY:Oratorium "Simeon"
DESCRIPTION:<p>Kirchen-\, Jugend- und Projektchor St. Oswald mit Band\, Solist*innen unter der Leitung von Kirchenmusiker Horst Berger.</p>
LOCATION:
END:VEVENT
END:VCALENDAR