BEGIN:VCALENDAR
VERSION:2.0
PRODID:-//NurEinShop//EventExport//DE
BEGIN:VEVENT
UID:c0cf20cedb7db5856d65f6fc
DTSTAMP:20260419T204606Z
DTSTART:20260725T170000
DTEND:20260725T235900
SUMMARY:20. Beachhandballturnier des TSV Buchen Handball
DESCRIPTION:Beachhandballturnier für Freizeitmannschafte n
LOCATION:Beachanlage im Frankenlandstadion (Parkplatz Kindergarten Wirbelwind)\, Am Langen Graben\, 74722 Buchen 
END:VEVENT
END:VCALENDAR