BEGIN:VCALENDAR
VERSION:2.0
PRODID:-//NurEinShop//EventExport//DE
BEGIN:VEVENT
UID:53ee5695ceaeba89e042cfd2
DTSTAMP:20260419T221518Z
DTSTART:20270702T000000
DTEND:20270704T235900
SUMMARY:100 Jahre Spielvereinigung Hainstadt - Sportfest
DESCRIPTION:
LOCATION:
END:VEVENT
END:VCALENDAR