BEGIN:VCALENDAR
VERSION:2.0
PRODID:-//NurEinShop//EventExport//DE
BEGIN:VEVENT
UID:161c676c9d49ac3b8429976f
DTSTAMP:20260419T204842Z
DTSTART:20261121T000000
DTEND:20261121T235500
SUMMARY:Schlacht und Klang im Lindensaal Hettingen 
DESCRIPTION:Schlacht und Klang - Schlachtfest.\nDer Musikverein Hettingen e.V. lädt gemeinsam mit dem FC-Containerteam herzlich zum Schlachtfest in den Lindensaal nach Hettingen ein. Beginn ist um 10 Uhr mit musikalischer Unterhaltung durch den Musikverein Hettingen.
LOCATION:
END:VEVENT
END:VCALENDAR