BEGIN:VCALENDAR
VERSION:2.0
PRODID:-//NurEinShop//EventExport//DE
BEGIN:VEVENT
UID:1b17ff42b3613bab5caed0d3
DTSTAMP:20260419T204724Z
DTSTART:20260926T190000
DTEND:20260926T235900
SUMMARY:Oktoberfest Stürzenhardt
DESCRIPTION:<p>Oktoberfest</p>
LOCATION:74722 Buchen\, OT Stürzenhardt\, Odenwaldhöhe 12
END:VEVENT
END:VCALENDAR