BEGIN:VCALENDAR
VERSION:2.0
PRODID:-//NurEinShop//EventExport//DE
BEGIN:VEVENT
UID:b267d03a0886805e74e3f4aa
DTSTAMP:20260419T205334Z
DTSTART:20260802T000000
DTEND:20260802T235500
SUMMARY:Sommerfest FFW Stürzenhardt
DESCRIPTION:Sommerfest beginn 11:00 Uhr 
LOCATION:Stürzenhardt Dorfgemeinschaftshaus
END:VEVENT
END:VCALENDAR