BEGIN:VCALENDAR
VERSION:2.0
PRODID:-//NurEinShop//EventExport//DE
BEGIN:VEVENT
UID:fc5cf7f9300318811c90be4c
DTSTAMP:20260419T221636Z
DTSTART:20270625T000000
DTEND:20270627T235900
SUMMARY:Stadtmeisterschaft
DESCRIPTION:
LOCATION:
END:VEVENT
END:VCALENDAR