BEGIN:VCALENDAR
VERSION:2.0
PRODID:-//NurEinShop//EventExport//DE
BEGIN:VEVENT
UID:7f5d2db6c451ddcf19b49c45
DTSTAMP:20260419T190530Z
DTSTART:20260319T140000
DTEND:20260718T121500
SUMMARY:Interkulturelles Digitalcafé
DESCRIPTION:Willkommen im Interkulturellen Digitalcafé!\nGemeinsam lernen\, digital mitmachen und neue Menschen kennenlernen – das ist die Idee unseres offenen Treffpunkts für Zugewanderte und Einheimische. In kleinen Gruppen entdecken wir gemeinsam\, wie man Online-Behördengänge meistert\, mit Familie und Freunden über Apps kommuniziert oder Bildungsangebote im Internet nutzt. Ganz ohne Vorkenntnisse\, in freundlicher Atmosphäre und mit Unterstützung erfahrener Dozent:innen.\nKommen Sie vorbei\, lernen Neues und gestalten mit uns eine starke\, vernetzte Gemeinschaft im ländlichen Raum!\nDie Treffen finden donnerstags von 14 bis 16.15 Uhr und samstags von 10 bis 12.15 Uhr statt.
LOCATION:
END:VEVENT
END:VCALENDAR