BEGIN:VCALENDAR
VERSION:2.0
PRODID:-//NurEinShop//EventExport//DE
BEGIN:VEVENT
UID:541d1268dd7eb8670a7a0686
DTSTAMP:20260419T204724Z
DTSTART:20260612T000000
DTEND:20260615T235500
SUMMARY:Sportfest SV Hettigenbeuern
DESCRIPTION:jährliches Sportfest des SV Hettigenbeuern mit 9m Schiessen\, viele sportlichen Partien\, Firmenturnier & viel Spaß für die Kinder
LOCATION:
END:VEVENT
END:VCALENDAR