BEGIN:VCALENDAR
VERSION:2.0
PRODID:-//NurEinShop//EventExport//DE
BEGIN:VEVENT
UID:0b6002c620613698a6dde47c
DTSTAMP:20260419T204811Z
DTSTART:20270501T000000
DTEND:20270502T235900
SUMMARY:Jubiläum 750 Jahre Hollerbach
DESCRIPTION:
LOCATION:
END:VEVENT
END:VCALENDAR