BEGIN:VCALENDAR
VERSION:2.0
PRODID:-//NurEinShop//EventExport//DE
BEGIN:VEVENT
UID:1b4e3de9a3a38ccca8d46403
DTSTAMP:20260419T204044Z
DTSTART:20260924T193000
DTEND:20260924T235900
SUMMARY:Kinomobil
DESCRIPTION:
LOCATION:
END:VEVENT
END:VCALENDAR