BEGIN:VCALENDAR
VERSION:2.0
PRODID:-//NurEinShop//EventExport//DE
BEGIN:VEVENT
UID:9d2515bd2049b2331c11ca3d
DTSTAMP:20260419T205015Z
DTSTART:20260504T183000
DTEND:20260504T200000
SUMMARY:Vortrag: Schutz vor Internetkriminalität
DESCRIPTION:Die Nutzung des Internets ist aus dem Privat- und Geschäftsleben heute nicht mehr wegzudenken. Einkaufen\, die Urlaubsbuchung oder soziale Kontaktpflege\, die Angebote für Apps\, Programme und Plattformen werden immer vielfältiger. Gleichzeitig steigen die Zahlen der Straftaten unter Nutzung des Internets massiv an. Was sind gängige Alltagsmaschen der Straftäter\, ist das Online-Banking sicher\, kann ich im Internet sicher einkaufen\, wie kann ich mich und meine persönlichen Daten ausreichend schützen und welche Verhaltensregeln sollte ich im Internet beachten? Die Prävention des Polizeipräsidiums Heilbronn klärt jung wie alt über wichtige Tipps und Tricks auf\, um sich auch weiterhin im Internet sicher bewegen zu können.
LOCATION:vhs-Haus 2\, Kellereistr. 31\, 74722 Buchen
END:VEVENT
END:VCALENDAR