BEGIN:VCALENDAR
VERSION:2.0
PRODID:-//NurEinShop//EventExport//DE
BEGIN:VEVENT
UID:798bb978afe353a55b7b8c60
DTSTAMP:20260419T220047Z
DTSTART:20260711T000000
DTEND:20260712T235900
SUMMARY:160 Jahre Feuerwehr Buchen
DESCRIPTION:<p>Die Freiwillige Feuerwehr Buchen wird 160 Jahre alt und feiert das mit einem Gauditurnier und einem Blaulichttag. Zum Gauditurnier sind alle Gruppierungen mit Gruppen à 5 Mann/Frau eingeladen. </p>
LOCATION:
END:VEVENT
END:VCALENDAR