BEGIN:VCALENDAR
VERSION:2.0
PRODID:-//NurEinShop//EventExport//DE
BEGIN:VEVENT
UID:6bc35bf7e04ae09907a749ec
DTSTAMP:20260419T204224Z
DTSTART:20261022T160000
DTEND:20261022T235900
SUMMARY:Kinomobil
DESCRIPTION:
LOCATION:
END:VEVENT
END:VCALENDAR