BEGIN:VCALENDAR
VERSION:2.0
PRODID:-//NurEinShop//EventExport//DE
BEGIN:VEVENT
UID:c0695a83deaeeac5a1619c78
DTSTAMP:20260419T204924Z
DTSTART:20261105T160000
DTEND:20261105T235900
SUMMARY:Kinomobil
DESCRIPTION:
LOCATION:
END:VEVENT
END:VCALENDAR