BEGIN:VCALENDAR
VERSION:2.0
PRODID:-//NurEinShop//EventExport//DE
BEGIN:VEVENT
UID:8ac493903118fe390a1187f1
DTSTAMP:20260419T205211Z
DTSTART:20260525T110000
DTEND:20260525T170000
SUMMARY:Beratung Blickpunkt Auge (nach Terminvereinbarung)
DESCRIPTION:Sie haben eine Augenerkrankung?<br>Frau Karin Gschwind vom Badischen Blinden- und Sehbehindertenverein ist zertifizierte Blickpunkt-Auge-Beraterin. Sie bietet alle zwei Monate im Mehrgenerationenhaus Buchen eine Beratung für Sie und / oder Ihre Angehörigen an. Sie können alle Fragen besprechen\, die sich durch ein Leben mit Sehverlust ergeben. Die Beratung ist persönlich\, kostenfrei und unabhängig.<br>Eine Voranmeldung über Telefon oder Email ist unbedingt erforderlich. Dabei wird ein individueller Termin vereinbart.<br>Die Beratungstermine finden alle zwei Monate am letzten Montag im Monat statt (Januar\, März\, Mai...).<br><b>Anmeldung bei: </b>Fr. Gschwind\, Tel. 0173 2785767\, <a href=mailto:k.gschwind@blickpunkt-auge.de target=_blank>k.gschwind@blickpunkt-auge.de</a>\,<br><a href=https://blickpunkt-auge.de/baden-wuerttemberg.html. target=_blank>https://blickpunkt-auge.de/baden-wuerttemberg.html.</a> Ein Angebot des BBSV.<br><br><b>Wo:</b><br>Mehrgenerationenhaus Buchen<br>Hollergasse 14\, 74722 Buchen<br><br><br>Weitere Angebote des Mehrgenerationenhauses finden Sie hier:<br><a href=http://www.mehrgenerationenhaus-buchen.de/><u>www.mehrgenerationenhaus-buchen.de</u></a>
LOCATION:
END:VEVENT
END:VCALENDAR