BEGIN:VCALENDAR
VERSION:2.0
PRODID:-//NurEinShop//EventExport//DE
BEGIN:VEVENT
UID:38180325d748c1d10e7743f8
DTSTAMP:20260419T203405Z
DTSTART:20260625T160000
DTEND:20260625T235900
SUMMARY:Kinomobil - Tafiti - Ab durch die Wüste
DESCRIPTION:
LOCATION:
END:VEVENT
END:VCALENDAR