BEGIN:VCALENDAR
VERSION:2.0
PRODID:-//NurEinShop//EventExport//DE
BEGIN:VEVENT
UID:cbc8b302728a4517f979364d
DTSTAMP:20260419T205047Z
DTSTART:20260712T113000
DTEND:20260712T153000
SUMMARY:Interessensgruppe Buchen Vegan
DESCRIPTION:Wir sind eine Interessensgruppe und treffen uns in der Regel jeden 2. Sonntag im Monat 11.30-15.30 Uhr im Mehrgenerationenhaus Buchen zum Kennenlernen und Erfahrungsaustausch. Dabei genießen wir unser veganes Brunch\, zu dem alle etwas mitbringen.<br><br><b>Kontakt: Tel. 0160 6645643<br></b><br><b>Wo?</b><br>Mehrgenerationenhaus Buchen<br>Hollergasse 14<br>74722 Buchen
LOCATION:
END:VEVENT
END:VCALENDAR