BEGIN:VCALENDAR
VERSION:2.0
PRODID:-//NurEinShop//EventExport//DE
BEGIN:VEVENT
UID:1629f2ad6586a5d35fc1f77f
DTSTAMP:20260419T203949Z
DTSTART:20261022T193000
DTEND:20261022T235900
SUMMARY:Kinomobil
DESCRIPTION:
LOCATION:
END:VEVENT
END:VCALENDAR