BEGIN:VCALENDAR
VERSION:2.0
PRODID:-//NurEinShop//EventExport//DE
BEGIN:VEVENT
UID:8930d962810d97ac8a780911
DTSTAMP:20260419T190523Z
DTSTART:20260425T000000
DTEND:20260426T235500
SUMMARY:Dressurturnier
DESCRIPTION:Dressurturnier Führzügel bis M-Dressur
LOCATION:Reit- und Fahrverein Buchen e.V.\, Gustav-Struve-Straße 31\, 74722 Buchen
END:VEVENT
END:VCALENDAR