BEGIN:VCALENDAR
VERSION:2.0
PRODID:-//NurEinShop//EventExport//DE
BEGIN:VEVENT
UID:9ce033e932fc60cc57abc5e7
DTSTAMP:20260419T204305Z
DTSTART:20260924T160000
DTEND:20260924T235900
SUMMARY:Kinomobil
DESCRIPTION:
LOCATION:
END:VEVENT
END:VCALENDAR