BEGIN:VCALENDAR
VERSION:2.0
PRODID:-//NurEinShop//EventExport//DE
BEGIN:VEVENT
UID:ad082bc738afe89f363b4faf
DTSTAMP:20260419T203237Z
DTSTART:20260505T193000
DTEND:20260505T235900
SUMMARY:Badische Landesbühne - Die Wut\, die bleibt
DESCRIPTION:<p><strong>Eine Kooperation von Abendspielplan und Jungem Theater </strong></p>\n<p><strong>In einer Fassung f&uuml\;r die Badische Landesb&uuml\;hne von Gina Jasmina Wannenwetsch</strong></p>\n<p><strong>Eine Mutter steht vom Abendessen auf\, geht zum Balkon und springt. Der Vater sucht eine Ersatzmutter. Die Tochter konzentriert sich auf ihre Wut. Die Wut auf das\, was die Gesellschaft den Frauen zumutet.</strong></p>\n<p>Die Badische Landesb&uuml\;hne pr&auml\;sentiert Mareike Fallwickls Roman in einer eigenen Fassung. Am Dienstag\, 5. Mai 2026\, ist die Inszenierung in der Stadthalle in Buchen zu sehen. Beginn ist um 19.30 Uhr\, vor der Vorstellung gibt es um 19 Uhr eine Einf&uuml\;hrung in die Produktion.</p>\n<p>Durch den Sprung der Mutter fehlt der Familie alles\, was sie bisher zusammengehalten hat: Liebe\, F&uuml\;rsorge und Sicherheit. Denn Helene konnte und wollte nicht mehr funktionieren. Sarah\, ihre beste Freundin\, unterst&uuml\;tzt nun die Hinterbliebenen\, ihr eigenes Leben r&uuml\;ckt in den Hintergrund. Sie wird vom Familienvater wie selbstverst&auml\;ndlich in den Alltag der Familie integriert. Das macht Sarah w&uuml\;tend.</p>\n<p>Auch Lola\, die &auml\;lteste Tochter\, durchlebt Trauer\, aber vor allem Wut auf das Patriarchat\, welches sie nicht nur von den M&auml\;nnern\, sondern auch von ihrer toten Mutter und Sarah gest&uuml\;tzt sieht. Gemeinsam mit ihrer Freundin Sunny macht sie dem System eine Kampfansage. Sie setzen sich aktiv zur Wehr und r&auml\;chen begangenes Unrecht.</p>\n<p>Mareike Fallwickl seziert in ihrem feministischen Bestseller veraltete Rollenbilder und legt den Finger in die Wunden unserer Gesellschaft.</p>\n<p>Mit: <strong>Annamae Endtinger\, Michaela Finkbeiner\, Kim Vanessa F&ouml\;lding\, Jonathan Parr\, Simon Wenigerkind</strong></p>\n<p>Inszenierung: <strong>Gina Jasmina Wannenwetsch</strong></p>\n<p>B&uuml\;hne und Kost&uuml\;m: <strong>Leah Lichtwitz</strong></p>\n<p>Altersempfehlung<strong>: ab 14 Jahren</strong></p>\n<p>Dienstag\, 5. Mai 2026\, 19.30 Uhr</p>\n<p>Buchen\, Stadthalle</p>\n<p>Einf&uuml\;hrung um 19 Uhr</p>\n<p>&nbsp\;</p>\n<p><strong>Kartenvorverkauf</strong></p>\n<p>Tourist-Information im Verkehrsamt der Stadt Buchen\, Hochstadtstr. 2\, 74722 Buchen</p>\n<p>Telefon: 06281/2780</p>\n<p>E-Mail: info@verkehrsamt-buchen.de</p>\n<p>&nbsp\;</p>\n<p>&nbsp\;</p>
LOCATION:
END:VEVENT
END:VCALENDAR