BEGIN:VCALENDAR
VERSION:2.0
PRODID:-//NurEinShop//EventExport//DE
BEGIN:VEVENT
UID:eabe5722c90826e8c690c5cd
DTSTAMP:20260419T190524Z
DTSTART:20260426T180000
DTEND:20260426T193000
SUMMARY:Mit Leib und Seele
DESCRIPTION:Was ist Schönheit? Wie wird Behinderung definiert? \nUnd wann fühlst du dich wohl?\n\nNach dem großen Erfolg ihres Kinderstücks „Schlaflos in Schlummerland“ frei nach Michael Endes „Traumfresserchen“ und den Aufführungen 2018 und 2019 im Seitenbacher Forum hat sich das Theaterensemble „tejader“ der Lebenshilfe Buchen e.V. an ein ganz anderes Projekt gewagt:\neine performative szenische Collage zu den Themen „Körper“\, „Schönheit“ und „Behinderung“.\n\nSeit Januar 2025 proben die 8 Schauspieler:innen mit Beeinträchtigung einmal wöchentlich mit der Theaterpädagogin Ann-Kathrin Beyersdorfer. \nDie Darsteller:innen haben sich mit ihrem Körper beschäftigt\, mit ihrem Down-Syndrom und mit ihren Schönheitsbildern. \nSeither sind Szenen entstanden\, in denen es um Gesundheit geht\, um Essen\, Fitness\, Beauty-Produkte und Selbstliebe.\nDarin offenbaren sie ihre Schmerzpunkte\, beschimpfen sich und zeigen\, wann sie sich wohl fühlen in ihrer Haut.\nVor allem halten sie allen den Spiegel vor\, die nach Körperidealen und Selbstoptimierung streben.\nAuf der Bühne zeigt das Ensemble ganz viel Körper-Ausdruck. Die Darsteller:innen spielen „mit Leib und Seele“ und offenbaren ihre Schönheit in ihren „anderen“\, nicht idealen Körpern.\n
LOCATION:
END:VEVENT
END:VCALENDAR