BEGIN:VCALENDAR
VERSION:2.0
PRODID:-//NurEinShop//EventExport//DE
BEGIN:VEVENT
UID:e9ab45a429ab641aeb82e3eb
DTSTAMP:20260419T205231Z
DTSTART:20261205T160000
DTEND:20261205T230000
SUMMARY:Weihnachtsmarkt Rinschheim
DESCRIPTION:
LOCATION:
END:VEVENT
END:VCALENDAR