BEGIN:VCALENDAR
VERSION:2.0
PRODID:-//NurEinShop//EventExport//DE
BEGIN:VEVENT
UID:e20ec2f2f6f922be1e851fe1
DTSTAMP:20260419T204306Z
DTSTART:20260430T180000
DTEND:20260501T230000
SUMMARY:Maibaumfest
DESCRIPTION:Maibaumfest am Gerätehaus in Hettingen
LOCATION:
END:VEVENT
END:VCALENDAR