BEGIN:VCALENDAR
VERSION:2.0
PRODID:-//NurEinShop//EventExport//DE
BEGIN:VEVENT
UID:dfe22a8876f1cd7a5e109536
DTSTAMP:20260419T205159Z
DTSTART:20261105T193000
DTEND:20261105T235900
SUMMARY:Kinomobil
DESCRIPTION:
LOCATION:
END:VEVENT
END:VCALENDAR