BEGIN:VCALENDAR
VERSION:2.0
PRODID:-//NurEinShop//EventExport//DE
BEGIN:VEVENT
UID:55bab600a5e4c4aa0f3c79d6
DTSTAMP:20260419T203452Z
DTSTART:20260625T193000
DTEND:20260625T235900
SUMMARY:Kinomobil - Amrum
DESCRIPTION:
LOCATION:
END:VEVENT
END:VCALENDAR