BEGIN:VCALENDAR
VERSION:2.0
PRODID:-//NurEinShop//EventExport//DE
BEGIN:VEVENT
UID:460cab7c6d8f38f630c2010a
DTSTAMP:20260419T203918Z
DTSTART:20260930T190000
DTEND:20260930T210000
SUMMARY:Selbsthilfegruppe Adipositas
DESCRIPTION:Die Gruppe trifft sich jeden letzten Mittwoch im Monat von 19.00-21.00 Uhr im Mehrgenerationenhaus Buchen\, Hollergasse 14\, 74722 Buchen.<br>Neue Interessentinnen und Interessenten sind immer herzlich willkommen.<br><br><b>Kontakt:</b> Diana Vogt\, <a href=mailto:diana.vogt77@gmail.com target=_blank>diana.vogt77@gmail.com</a>\, Tel. 0176 80861902
LOCATION:
END:VEVENT
END:VCALENDAR