BEGIN:VCALENDAR
VERSION:2.0
PRODID:-//NurEinShop//EventExport//DE
BEGIN:VEVENT
UID:d77b75f0f1e3bfc5a052e80b
DTSTAMP:20260419T222035Z
DTSTART:20270425T000000
DTEND:20270425T235900
SUMMARY:100 Jahre Spielvereinigung Hainstadt - Festakt
DESCRIPTION:
LOCATION:
END:VEVENT
END:VCALENDAR