BEGIN:VCALENDAR
VERSION:2.0
PRODID:-//NurEinShop//EventExport//DE
BEGIN:VEVENT
UID:9aaeab2e804e75527d03590b
DTSTAMP:20260419T204050Z
DTSTART:20260704T193000
DTEND:20260704T230000
SUMMARY:Nacht der Chöre
DESCRIPTION:Nacht der Chöre \n
LOCATION:Waldhausen Dorfplatz
END:VEVENT
END:VCALENDAR